BEGIN:VCALENDAR
VERSION:2.0
PRODID:-//India Association of Garden State - ECPv6.15.20//NONSGML v1.0//EN
CALSCALE:GREGORIAN
METHOD:PUBLISH
X-WR-CALNAME:India Association of Garden State
X-ORIGINAL-URL:https://www.iaofgs.org
X-WR-CALDESC:Events for India Association of Garden State
REFRESH-INTERVAL;VALUE=DURATION:PT1H
X-Robots-Tag:noindex
X-PUBLISHED-TTL:PT1H
BEGIN:VTIMEZONE
TZID:America/New_York
BEGIN:DAYLIGHT
TZOFFSETFROM:-0500
TZOFFSETTO:-0400
TZNAME:EDT
DTSTART:20220313T070000
END:DAYLIGHT
BEGIN:STANDARD
TZOFFSETFROM:-0400
TZOFFSETTO:-0500
TZNAME:EST
DTSTART:20221106T060000
END:STANDARD
BEGIN:DAYLIGHT
TZOFFSETFROM:-0500
TZOFFSETTO:-0400
TZNAME:EDT
DTSTART:20230312T070000
END:DAYLIGHT
BEGIN:STANDARD
TZOFFSETFROM:-0400
TZOFFSETTO:-0500
TZNAME:EST
DTSTART:20231105T060000
END:STANDARD
BEGIN:DAYLIGHT
TZOFFSETFROM:-0500
TZOFFSETTO:-0400
TZNAME:EDT
DTSTART:20240310T070000
END:DAYLIGHT
BEGIN:STANDARD
TZOFFSETFROM:-0400
TZOFFSETTO:-0500
TZNAME:EST
DTSTART:20241103T060000
END:STANDARD
END:VTIMEZONE
BEGIN:VEVENT
DTSTART;TZID=America/New_York:20230520T100000
DTEND;TZID=America/New_York:20230520T130000
DTSTAMP:20260422T092710
CREATED:20230508T222336Z
LAST-MODIFIED:20230608T235713Z
UID:9966-1684576800-1684587600@www.iaofgs.org
SUMMARY:2023 IAGS Car Wash - Rained Out\, Stay Tuned!
DESCRIPTION:We are issuing a rain check as our previously announced car wash fundraiser for May 20\, 2023 was rained out. Stay tuned for the new make-up date. Our goal is to raise funds for a charity of our teen’s choosing. We would love your support! \nOur team of volunteers will be washing cars at Aldersgate Church. Not only will you be supporting a great cause\, but you’ll also get a sparkling clean car! So come on down and get your car washed by our amazing teens. \nThank you for your support!
URL:https://www.iaofgs.org/event/2023-iags-car-wash/
LOCATION:Aldersgate Community Gym Hall\, 568 Ryders Lane\, East Brunswick\, NJ\, 08816\, United States
END:VEVENT
END:VCALENDAR