BEGIN:VCALENDAR
VERSION:2.0
PRODID:-//India Association of Garden State - ECPv6.15.20//NONSGML v1.0//EN
CALSCALE:GREGORIAN
METHOD:PUBLISH
X-ORIGINAL-URL:https://www.iaofgs.org
X-WR-CALDESC:Events for India Association of Garden State
REFRESH-INTERVAL;VALUE=DURATION:PT1H
X-Robots-Tag:noindex
X-PUBLISHED-TTL:PT1H
BEGIN:VTIMEZONE
TZID:America/New_York
BEGIN:DAYLIGHT
TZOFFSETFROM:-0500
TZOFFSETTO:-0400
TZNAME:EDT
DTSTART:20220313T070000
END:DAYLIGHT
BEGIN:STANDARD
TZOFFSETFROM:-0400
TZOFFSETTO:-0500
TZNAME:EST
DTSTART:20221106T060000
END:STANDARD
BEGIN:DAYLIGHT
TZOFFSETFROM:-0500
TZOFFSETTO:-0400
TZNAME:EDT
DTSTART:20230312T070000
END:DAYLIGHT
BEGIN:STANDARD
TZOFFSETFROM:-0400
TZOFFSETTO:-0500
TZNAME:EST
DTSTART:20231105T060000
END:STANDARD
BEGIN:DAYLIGHT
TZOFFSETFROM:-0500
TZOFFSETTO:-0400
TZNAME:EDT
DTSTART:20240310T070000
END:DAYLIGHT
BEGIN:STANDARD
TZOFFSETFROM:-0400
TZOFFSETTO:-0500
TZNAME:EST
DTSTART:20241103T060000
END:STANDARD
BEGIN:DAYLIGHT
TZOFFSETFROM:-0500
TZOFFSETTO:-0400
TZNAME:EDT
DTSTART:20250309T070000
END:DAYLIGHT
BEGIN:STANDARD
TZOFFSETFROM:-0400
TZOFFSETTO:-0500
TZNAME:EST
DTSTART:20251102T060000
END:STANDARD
BEGIN:DAYLIGHT
TZOFFSETFROM:-0500
TZOFFSETTO:-0400
TZNAME:EDT
DTSTART:20260308T070000
END:DAYLIGHT
BEGIN:STANDARD
TZOFFSETFROM:-0400
TZOFFSETTO:-0500
TZNAME:EST
DTSTART:20261101T060000
END:STANDARD
END:VTIMEZONE
BEGIN:VEVENT
DTSTART;TZID=America/New_York:20231007T190000
DTEND;TZID=America/New_York:20231007T235900
DTSTAMP:20260422T191302
CREATED:20230922T110027Z
LAST-MODIFIED:20231001T145704Z
UID:10610-1696705200-1696723140@www.iaofgs.org
SUMMARY:2023 IAGS Garba Event - Sold Out!
DESCRIPTION:Are you ready to dance the night away with the rhythm of Garba? Join us for a spectacular IAGS Garba & DJ Event on October 7\, 2023\, and experience the joy and excitement of this traditional Indian folk dance. \nGarba is a dance that celebrates the divine energy within every human being. It is performed in honor of the Hindu goddess Durga\, who represents the feminine form of divinity. Garba is also a social and cultural event that brings people together to celebrate life\, fertility\, and womanhood. \nAt our Garba event\, you will have the opportunity to experience a live DJ\, delicious snacks\, and colorful costumes. \nWhether you are a beginner or an expert\, you will have a blast at our Garba event. Come with your friends and family\, or make new ones on the dance floor. Don’t miss this chance to have fun\, express yourself\, and connect with others who share your spirit. \nBook your tickets now to get the Early Bird price and get ready for a night you will never forget. Garba is more than just a dance\, it is a way of life. Come and discover the magic of this ancient tradition (download and share the flyer for more info). \nTICKETS ARE NOW SOLD OUT!\n\nPurchase tickets by clicking “Add to Cart” button below.\nSelect number of tickets. Note children under 6 years of age are free.\nPlace order by clicking yellow “Checkout with PayPal” button.\n\n 
URL:https://www.iaofgs.org/event/2023-iags-garba-event-tickets-on-sale/
LOCATION:Aldersgate Community Gym Hall\, 568 Ryders Lane\, East Brunswick\, NJ\, 08816\, United States
ATTACH;FMTTYPE=image/png:https://www.iaofgs.org/wp-content/uploads/2023/09/IAGS-Garba-2023-Flyer.png
END:VEVENT
BEGIN:VEVENT
DTSTART;TZID=America/New_York:20231209T180000
DTEND;TZID=America/New_York:20231209T235900
DTSTAMP:20260422T191302
CREATED:20231102T160154Z
LAST-MODIFIED:20240116T222845Z
UID:10938-1702144800-1702166340@www.iaofgs.org
SUMMARY:2023 IAGS Annual Day Event Tickets On Sale!
DESCRIPTION:Time to purchase your 2023 IAGS Annual Day Event tickets! Tickets are eligible for Early Bird Pricing till December 1st. Please see our flyer for more details. This year’s event will be held on December 9\, 2023 at Rasoi 3 in Monmouth Junction. You are in for a treat\, with entertaining dance performances\, DJ and live singing as well as mouth watering appetizers and dinner. As always\, the more the merrier\, so we encourage our members to invite friends and family to this fun for all ages event! \n\nTICKET PURCHASE NOW CLOSED\n\nClick “Add to Cart” button for each ticket category.\nSelect number of tickets.\nPlace order by clicking yellow “Checkout with PayPal” button.\n\n  \n\n  \nAdult Ticket – $50 \n  \n  \n \nChild Ticket (age 6-17) – $25 \n 
URL:https://www.iaofgs.org/event/2023-iags-annual-day-event-tickets-on-sale/
LOCATION:Rasoi 3\, 620 Georges Road\, Monmouth Junction\, 08852\, United States
ATTACH;FMTTYPE=image/jpeg:https://www.iaofgs.org/wp-content/uploads/2023/10/IAGS47Flyer-3-scaled.jpg
END:VEVENT
BEGIN:VEVENT
DTSTART;TZID=America/New_York:20240818T110000
DTEND;TZID=America/New_York:20240818T160000
DTSTAMP:20260422T191302
CREATED:20240723T183634Z
LAST-MODIFIED:20240821T203640Z
UID:11820-1723978800-1723996800@www.iaofgs.org
SUMMARY:2024 IAGS Summer Picnic!
DESCRIPTION:Hello IAGS community! We hope you are surviving the abnormally high bouts of heat this Summer. One way to help combat the season\, is by cooling off with some refreshments and enjoying the good food and company of your fellow IAGS members. \n \nJoin us on Sunday August 18th at Thompson Park in Monroe for the 2024 IAGS Summer Picnic (see flyer for more details). We will have fun and games for all ages along with delicious food (breakfast and lunch). Tickets are on sale now\, friends and family are welcome! \n  \nPURCHASE TICKETS – SALES NOW CLOSED\nTickets can be purchased by following the directions below. \n\nClick “Add to Cart” button for each ticket category.\nSelect number of tickets.\nPlace order by clicking yellow “Checkout with PayPal” button.\n\n  \n2024 IAGS Summer Picnic Ticket – $15 \n 
URL:https://www.iaofgs.org/event/2024-iags-summer-picnic-tickets-on-sale/
LOCATION:Thompson Park\, 1 Thompson Drive\, Monroe\, NJ\, 08831\, United States
ATTACH;FMTTYPE=image/png:https://www.iaofgs.org/wp-content/uploads/2024/07/2024-IAGS-Summer-Picnic-Flyer.png
END:VEVENT
BEGIN:VEVENT
DTSTART;TZID=America/New_York:20240928T190000
DTEND;TZID=America/New_York:20240928T233000
DTSTAMP:20260422T191302
CREATED:20240901T181150Z
LAST-MODIFIED:20240910T172729Z
UID:11996-1727550000-1727566200@www.iaofgs.org
SUMMARY:2024 IAGS Garba & DJ Event - SOLD OUT!
DESCRIPTION:Get ready to groove to the beats of Garba!\nJoin us for a night of unforgettable fun at the 2024 IAGS Garba & DJ Event featuring a live DJ (see flyer for more info)! Experience the traditional rhythms of Garba with a modern twist as you dance the night away under the stars. \nWhat to expect: \n\nTraditional Garba: Learn the steps and join the vibrant circle dance.\nDJ-fueled entertainment: Dance to a mix of Bollywood hits and popular beats.\nDelicious snack & tea: Savor the flavors of authentic Indian snacks and chai.\nVibrant atmosphere: Immerse yourself in the colorful and energetic ambiance.\n\nWhether you’re a seasoned Garba dancer or new to the experience\, this event is perfect for everyone. So grab your friends and come celebrate the spirit of Garba with us! \nDate: September 28\, 2024 \nTime: 7pm-11:30pm \nDon’t miss out! Get your tickets below and be part of one of the most exciting Garba nights of the season. \n\nPURCHASE TICKETS\n*DUE TO OVERWHELMING DEMAND TICKETS ARE SOLD OUT! \nTickets can be purchased by following the directions below. Note that children 5 and under have free admission. \n\nClick “Add to Cart” button for each ticket category.\nSelect number of tickets.\nPlace order by clicking yellow “Checkout with PayPal” button.\n\n2024 IAGS Garba & DJ Event Ticket – $10 \n 
URL:https://www.iaofgs.org/event/2024-iags-garba-dj-event-tickets-now-on-sale/
LOCATION:Aldersgate Community Gym Hall\, 568 Ryders Lane\, East Brunswick\, NJ\, 08816\, United States
ATTACH;FMTTYPE=image/png:https://www.iaofgs.org/wp-content/uploads/2024/09/IAGS-Garba-2024-Flyer-1.png
END:VEVENT
BEGIN:VEVENT
DTSTART;TZID=America/New_York:20241207T180000
DTEND;TZID=America/New_York:20241207T233000
DTSTAMP:20260422T191302
CREATED:20241109T120806Z
LAST-MODIFIED:20250221T203803Z
UID:12259-1733594400-1733614200@www.iaofgs.org
SUMMARY:IAGS 2024 Holiday Event: Celebrate with Dance and Fun!
DESCRIPTION:It’s once again time for the IAGS Holiday Event! We will be having our 48th gathering\, celebrating the cultural dance performances of our youngest members\, a talent show\, and an opportunity to get together and catch up with friends and family. \nIn addition\, we will have a DJ and dancing as part of the entertainment\, along with a tasty selection of appetizers\, dinner\, and one complimentary alcoholic drink per ticket holder (additional drinks available for purchase). Please see the flyer for more details. \nSo get your tickets now (see below) and avail of the Early Bird Pricing that will be in effect till November 30th. This year’s event will be held on December 7\, 2024 at Royal Albert’s Palace. As always\, the more the merrier\, so we encourage our members to invite friends and family to this fun for all ages event! \n\nTICKET PURCHASE\n\nClick “Add to Cart” button for each ticket category.\nSelect number of tickets.\nPlace order by clicking yellow “Checkout with PayPal” button.\n\n  \n  \nAdult Ticket – $45 \n  \n  \n \nChild (age 7 – 16) Ticket – $35 \n 
URL:https://www.iaofgs.org/event/ad24/
LOCATION:Royal Albert’s Palace\, 1050 King George's Post Road\, Edison\, NJ\, 08837\, United States
ATTACH;FMTTYPE=image/png:https://www.iaofgs.org/wp-content/uploads/2024/11/bollywood-dance-performance-by-indian-children.png
END:VEVENT
BEGIN:VEVENT
DTSTART;TZID=America/New_York:20250920T190000
DTEND;TZID=America/New_York:20250920T233000
DTSTAMP:20260422T191302
CREATED:20250824T013303Z
LAST-MODIFIED:20250921T133328Z
UID:12849-1758394800-1758411000@www.iaofgs.org
SUMMARY:2025 IAGS Garba and Raas Night! (Sep 20th 2025)
DESCRIPTION:Get ready for 2 Nights of Garba Magic!\nWe’re excited to bring you two Garba events:📅 Sept 20 & Oct 3 \nJoin us for a night of unforgettable fun at the 2025 IAGS Garba Raas Event featuring a live DJ ! Experience the traditional rhythms of Garba with a modern twist as you dance the night away under the stars. \nWhat to expect: \n\nTraditional Garba: Learn the steps and join the vibrant circle dance.\nDJ-fueled entertainment: Dance to a mix of Bollywood hits and popular beats.\nDelicious snack & tea: Savor the flavors of authentic Indian snacks and chai.\nVibrant atmosphere: Immerse yourself in the colorful and energetic ambiance.\n\nWhether you’re a seasoned Garba dancer or new to the experience\, this event is perfect for everyone (download flyer for more info). So grab your friends and come celebrate the spirit of Garba with us! \nDate: September 20\, 2025 \nTime: 7pm-11:30pm \nDon’t miss out! Get your tickets below and be part of one of the most exciting Garba nights of the season. \n 
URL:https://www.iaofgs.org/event/2025-iags-garba-rass-event/
LOCATION:Aldersgate Community Gym Hall\, 568 Ryders Lane\, East Brunswick\, NJ\, 08816\, United States
ATTACH;FMTTYPE=image/jpeg:https://www.iaofgs.org/wp-content/uploads/2025/08/2025-IAGS-Garba-and-Raas-Flyer.jpeg
END:VEVENT
BEGIN:VEVENT
DTSTART;TZID=America/New_York:20251003T190000
DTEND;TZID=America/New_York:20251003T233000
DTSTAMP:20260422T191302
CREATED:20250824T014229Z
LAST-MODIFIED:20250926T223407Z
UID:12857-1759518000-1759534200@www.iaofgs.org
SUMMARY:2025 IAGS Bollywood Style Garba Event! (Oct 3rd) - SOLD OUT!
DESCRIPTION:Get ready to groove to the beats of Garba!\nThanks to all who purchased tickets and made this event SOLD OUT! Those lucky enough to have tickets will join us for a night of unforgettable fun at the 2025 IAGS Garba Bollywood Style Event featuring a live DJ! Experience the traditional rhythms of Garba with a modern twist as you dance the night away under the stars. \nWhat to expect: \n\nTraditional Garba: Learn the steps and join the vibrant circle dance.\nDJ-fueled entertainment: Dance to a mix of Bollywood hits and popular beats.\nDelicious snack & tea: Savor the flavors of authentic Indian snacks and chai.\nVibrant atmosphere: Immerse yourself in the colorful and energetic ambiance.\n\nWhether you’re a seasoned Garba dancer or new to the experience\, this event is perfect for everyone (download flyer for more info). So grab your friends and come celebrate the spirit of Garba with us! \nDate: October 3\, 2025 \nTime: 7pm-11:30pm \nDon’t miss out! Get your tickets below and be part of one of the most exciting Garba nights of the season. \nPURCHASE TICKETS\nTickets can be purchased by following the directions below. Note that children 5 and under have free admission. \n\nClick “Add to Cart” button for each ticket category.\nSelect number of tickets.\nPlace order by clicking yellow “Checkout with PayPal” button.\n\n2025 IAGS Garba Bollywood Style Event Ticket – $12 \n  \n 
URL:https://www.iaofgs.org/event/2025-iags-garba-bollywood-style/
LOCATION:Aldersgate Community Gym Hall\, 568 Ryders Lane\, East Brunswick\, NJ\, 08816\, United States
ATTACH;FMTTYPE=image/jpeg:https://www.iaofgs.org/wp-content/uploads/2025/09/2025-IAGS-Bollywood-Garba-Flyer.jpeg
END:VEVENT
BEGIN:VEVENT
DTSTART;TZID=America/New_York:20251213T180000
DTEND;TZID=America/New_York:20251213T230000
DTSTAMP:20260422T191302
CREATED:20251003T003457Z
LAST-MODIFIED:20251209T225006Z
UID:13201-1765648800-1765666800@www.iaofgs.org
SUMMARY:IAGS Holiday Party 2025
DESCRIPTION:It’s once again time for the IAGS Holiday Party! We will be having our 49th gathering\, celebrating the cultural dance performances of our youngest members\, a talent show\, and an opportunity to get together and catch up with friends and family. \nIn addition\, we will have a DJ and dancing as part of the entertainment\, along with a tasty selection of appetizers\, dinner\, and one complimentary alcoholic drink per ticket holder (additional drinks available for purchase). \nThis year’s event will be held on December 13\, 2025 at Royal Albert’s Palace. As always\, the more the merrier\, so we encourage our members to invite friends and family to this fun for all ages event! \nTICKET PURCHASE\n\nClick “Add to Cart” button for each ticket category.\nSelect number of tickets.\nPlace order by clicking yellow “Checkout with PayPal” button.\n\nTicket – $35
URL:https://www.iaofgs.org/event/iags-holiday-party-2025/
LOCATION:Royal Albert’s Palace\, 1050 King George's Post Road\, Edison\, NJ\, 08837\, United States
ATTACH;FMTTYPE=image/jpeg:https://www.iaofgs.org/wp-content/uploads/2025/12/2025-IAGS-Holiday-Party-Flyer.jpg
END:VEVENT
END:VCALENDAR